BEGIN:VCALENDAR
VERSION:2.0
PRODID:-//Volt Europa//Events//EN
CALSCALE:GREGORIAN
METHOD:PUBLISH
BEGIN:VEVENT
UID:meet-greet-ljubljana-20250813-1755100800@voltslovenija.org
DTSTAMP:20260423T163545Z
DTSTART;TZID=Europe/Ljubljana:20250813T180000
DTEND;TZID=Europe/Ljubljana:20250813T210000
SUMMARY:Meet & Greet Ljubljana
DESCRIPTION:YOU ARE INVITED!  If you are interested in our movement\, join 
 us on the 13th for a relaxed get-together over coffee (or beer if you prefe
 r). A chance to get to know each other\, exchange ideas and network in a re
 laxed atmosphere.  When? Wednesday\, 13th of August Where? Sax Pub (Eipprov
 a ulica 7)
LOCATION:Sax Pub (Eipprova ulica 7\, Ljubljana)
URL:https://voltslovenia.org/events/meet-greet-ljubljana-20250813
END:VEVENT
END:VCALENDAR
