BEGIN:VCALENDAR
VERSION:2.0
PRODID:-//Volt Europa//Events//EN
CALSCALE:GREGORIAN
METHOD:PUBLISH
BEGIN:VEVENT
UID:happy-end-party-ljubljana-20251221-1766336400@voltslovenija.org
DTSTAMP:20260423T163224Z
DTSTART;TZID=Europe/Ljubljana:20251221T180000
DTEND;TZID=Europe/Ljubljana:20251221T230000
SUMMARY:🎉 Happy End 2025 party
DESCRIPTION:Dear Volters and friends of Volt\, The year is coming to an end
  and it is time to give thanks for everything we have achieved and raise a 
 glass to the new challenges that lie ahead. We are therefore delighted to i
 nvite you to the Volt Slovenia End of Year Holidays Party 📅 When: sunday
 \, 21st of December 📍Where: Sax Pub\, Ljubljana ⏰ Time: 18:00 - 23:00 
 The event is intended for relaxed socializing\, conversation\, and a festiv
 e atmosphere in good company. Please confirm your attendance as soon as pos
LOCATION:Sax Pub (Eipprova ulica 7\, Ljubljana)
URL:https://voltslovenia.org/events/happy-end-party-ljubljana-20251221
END:VEVENT
END:VCALENDAR
